BEGIN:VCALENDAR
VERSION:2.0
PRODID:-//Trevón Gross Jr - ECPv6.15.17//NONSGML v1.0//EN
CALSCALE:GREGORIAN
METHOD:PUBLISH
X-WR-CALNAME:Trevón Gross Jr
X-ORIGINAL-URL:https://trevgrossjr.com
X-WR-CALDESC:Events for Trevón Gross Jr
REFRESH-INTERVAL;VALUE=DURATION:PT1H
X-Robots-Tag:noindex
X-PUBLISHED-TTL:PT1H
BEGIN:VTIMEZONE
TZID:America/New_York
BEGIN:DAYLIGHT
TZOFFSETFROM:-0500
TZOFFSETTO:-0400
TZNAME:EDT
DTSTART:20250309T070000
END:DAYLIGHT
BEGIN:STANDARD
TZOFFSETFROM:-0400
TZOFFSETTO:-0500
TZNAME:EST
DTSTART:20251102T060000
END:STANDARD
BEGIN:DAYLIGHT
TZOFFSETFROM:-0500
TZOFFSETTO:-0400
TZNAME:EDT
DTSTART:20260308T070000
END:DAYLIGHT
BEGIN:STANDARD
TZOFFSETFROM:-0400
TZOFFSETTO:-0500
TZNAME:EST
DTSTART:20261101T060000
END:STANDARD
BEGIN:DAYLIGHT
TZOFFSETFROM:-0500
TZOFFSETTO:-0400
TZNAME:EDT
DTSTART:20270314T070000
END:DAYLIGHT
BEGIN:STANDARD
TZOFFSETFROM:-0400
TZOFFSETTO:-0500
TZNAME:EST
DTSTART:20271107T060000
END:STANDARD
BEGIN:DAYLIGHT
TZOFFSETFROM:-0500
TZOFFSETTO:-0400
TZNAME:EDT
DTSTART:20280312T070000
END:DAYLIGHT
BEGIN:STANDARD
TZOFFSETFROM:-0400
TZOFFSETTO:-0500
TZNAME:EST
DTSTART:20281105T060000
END:STANDARD
END:VTIMEZONE
BEGIN:VEVENT
DTSTART;TZID=America/New_York:20260425T100000
DTEND;TZID=America/New_York:20260425T140000
DTSTAMP:20260423T043159
CREATED:20250811T161842Z
LAST-MODIFIED:20250811T161842Z
UID:3220-1777111200-1777125600@trevgrossjr.com
SUMMARY:Finish with Focus
DESCRIPTION:
URL:https://trevgrossjr.com/event/finish-with-focus/
LOCATION:The Builder’s Circle
CATEGORIES:Program Event
END:VEVENT
BEGIN:VEVENT
DTSTART;TZID=America/New_York:20270109T100000
DTEND;TZID=America/New_York:20270109T140000
DTSTAMP:20260423T043159
CREATED:20250809T135314Z
LAST-MODIFIED:20250829T171151Z
UID:3198-1799488800-1799503200@trevgrossjr.com
SUMMARY:Start to Dream
DESCRIPTION:Break free from your limits. Lead yourself into your dream.\nMost people never achieve their biggest goals — not because they lack talent\, but because hidden growth traps keep them stuck. \nStart to Dream is a one-day personal growth and leadership experience designed to help you break free from the 5 personal growth traps that stop leaders from reaching the next level. You’ll gain the clarity\, confidence\, and capacity to step into your dream and lead yourself to your next breakthrough. \nThis interactive experience will give you practical tools to overcome self-limiting beliefs\, strengthen your habits\, and build a plan you can put into action immediately. \n\nKey Takeaways:\n\n\nIdentify and overcome the 5 personal growth traps \n\n\nGain clarity on your vision for the year ahead \n\n\nBuild the self-leadership habits to sustain your goals \n\n\nCreate an actionable plan you can start immediately \n\n\n\nWho It’s For:\n\n\nDreamers and aspiring leaders \n\n\nProfessionals seeking growth and clarity \n\n\nAnyone ready to take ownership of their future \n\n\n\nReserve your free ticket today and take the first bold step into your dream life. \n\nUpgrade to VIP for $47\nIf you want direct access\, extra resources\, and personal guidance — upgrade to VIP. \nVIP Includes: \n\n\nExclusive 30-min VIP Q&A after the event ($100 value) \n\n\nEvent recording for 7 days ($35 value) \n\n\nVIP digital workbook with extra exercises & action plans ($20 value) \n\n\nBonus training video: “The First 30 Days of Your Dream” ($35 value) \n\n\nTotal Value: $190+Your Price: $47 \n\nSeats for the VIP Q&A are limited. Upgrade when you register to secure your spot.
URL:https://trevgrossjr.com/event/starttodream/
LOCATION:Zoom
CATEGORIES:Free,One Day Intensive
ATTACH;FMTTYPE=image/jpeg:https://trevgrossjr.com/wp-content/uploads/2025/08/2.jpg
END:VEVENT
BEGIN:VEVENT
DTSTART;TZID=America/New_York:20270410T100000
DTEND;TZID=America/New_York:20270410T140000
DTSTAMP:20260423T043159
CREATED:20250809T140015Z
LAST-MODIFIED:20250829T171132Z
UID:3205-1807351200-1807365600@trevgrossjr.com
SUMMARY:Called to Lead
DESCRIPTION:Advance the Kingdom. Lead well in ministry.\nMinistry leadership is a calling — and leading well starts with leading yourself. \nCalled to Lead is a one-day ministry leadership experience designed to help pastors\, ministry directors\, and church leaders overcome the personal growth traps that limit their influence and impact. \nThrough practical teaching\, interactive exercises\, and ministry-focused application\, you’ll learn how to strengthen your leadership\, unify your team\, and increase the health and effectiveness of your ministry. You’ll walk away with renewed clarity\, actionable strategies\, and the confidence to lead well in the calling God has given you. \n\nKey Takeaways:\n\n\nOvercome the growth traps limiting your personal ministry’s impact \n\n\nLead with clarity and unity in your church or organization \n\n\nStrengthen your team and ministry culture \n\n\nBuild sustainable rhythms to stay effective and avoid burnout \n\n\n\nWho It’s For:\n\n\nPastors \n\n\nMinistry Directors \n\n\nChurch Staff \n\n\nKey Ministry Volunteers \n\n\n\nRegister today for your free ticket and take the next step in becoming the leader your ministry needs. \n\nUpgrade to VIP for $47\nIf you want direct access\, personalized guidance\, and tools you can’t get anywhere else — upgrade to VIP. \nVIP Includes: \n\n\nExclusive 30-min VIP Q&A after the event ($100 value) \n\n\nEvent recording for 7 days ($35 value) \n\n\nVIP ministry strategy workbook with clarity exercises & leadership planning tools ($20 value) \n\n\nBonus training video: “3 Ways to Strengthen Your Ministry Team This Year” ($35 value) \n\n\nTotal Value: $190+Your Price: $47 \n\nSeats for the VIP Q&A are limited. Upgrade when you register to secure your spot.
URL:https://trevgrossjr.com/event/calledtolead/
LOCATION:Zoom
CATEGORIES:Free,One Day Intensive
ATTACH;FMTTYPE=image/jpeg:https://trevgrossjr.com/wp-content/uploads/2025/08/4.jpg
END:VEVENT
BEGIN:VEVENT
DTSTART;TZID=America/New_York:20270821T100000
DTEND;TZID=America/New_York:20270821T140000
DTSTAMP:20260423T043159
CREATED:20250809T135741Z
LAST-MODIFIED:20250829T171108Z
UID:3201-1818842400-1818856800@trevgrossjr.com
SUMMARY:Built to Lead
DESCRIPTION:Grow with purpose. Lead your business.\nYour business doesn’t have to be a guessing game. \nBuilt to Lead is a one-day business growth experience designed for start-ups and early-stage entrepreneurs who want to build purpose-driven and profitable businesses. In this focused\, high-impact day\, you’ll learn the 3 essential moves every entrepreneur needs to grow with clarity\, purpose\, and profit. \nThis isn’t just theory — you’ll leave with practical strategies and a 90-day action plan you can start implementing immediately to see growth in your revenue\, leadership\, and confidence as a business owner. \n\nKey Takeaways:\n\n\nLearn the 3 moves to grow a profitable\, purpose-driven business \n\n\nClarify your business vision and target audience \n\n\nDevelop a growth strategy you can implement immediately \n\n\nStrengthen your leadership as a business owner and CEO \n\n\n\nWho It’s For:\n\n\nStart-up Founders \n\n\nEarly-Stage Entrepreneurs \n\n\nSmall Business Owners \n\n\n\nReserve your free ticket today and take the first step toward building a business that makes both impact and income. \n\nUpgrade to VIP for $97\nIf you want direct access\, deeper insight\, and premium tools to accelerate your growth — upgrade to VIP. \nVIP Includes: \n\n\nExclusive 45-min VIP Business Coaching Q&A after the event ($150 value) \n\n\nEvent recording for 14 days ($50 value) \n\n\nVIP business growth workbook with frameworks & profitability planning sheets ($30 value) \n\n\nBonus training video: “The 90-Day Profit Plan” ($50 value) \n\n\nTotal Value: $280+Your Price: $97 \n\nSeats for the VIP Q&A are limited. Upgrade when you register to secure your spot.
URL:https://trevgrossjr.com/event/builttolead/
LOCATION:Zoom
CATEGORIES:Free,One Day Intensive
ATTACH;FMTTYPE=image/jpeg:https://trevgrossjr.com/wp-content/uploads/2025/08/3.jpg
END:VEVENT
END:VCALENDAR